BEGIN:VCALENDAR
VERSION:2.0
PRODID:-//ChamberMaster//Event Calendar 2.0//EN
METHOD:PUBLISH
X-PUBLISHED-TTL:P3D
REFRESH-INTERVAL:P3D
CALSCALE:GREGORIAN
BEGIN:VEVENT
DTSTART:20260605T180000Z
DTEND:20260605T210000Z
X-MICROSOFT-CDO-ALLDAYEVENT:FALSE
SUMMARY:Safety Day
DESCRIPTION:Cheboygan County Child Advocacy Council and Great Start Collaborative are having their 3rd Annual Safety Day! Join in this free event for fun\, hands-on activities for families to learn about keeping our kids safe! There will be a car seat safety station\, life jacket fitting\, fire and campfire safety with a visit from Smokey the Bear and so much more!
X-ALT-DESC;FMTTYPE=text/html:Cheboygan County Child Advocacy Council and Great Start Collaborative are having their 3rd Annual Safety Day! Join in this free event for fun\, hands-on activities for families to learn about keeping our kids safe! There will be a car seat safety station\, life jacket fitting\, fire and campfire safety with a visit from Smokey the Bear and so much more!
LOCATION:Knights of Columbus Hall Parking Lot\, Cheboygan
UID:e.3248.10523
SEQUENCE:3
DTSTAMP:20260422T131415Z
URL:https://www.cheboygan.com/events/details/safety-day-10523
END:VEVENT

END:VCALENDAR
